BEGIN:VCALENDAR
VERSION:2.0
PRODID:-//STU
CALSCALE:GREGORIAN
METHOD:PUBLISH
X-WR-CALNAME:STU
X-ORIGINAL-URL:https://www.nusta.edu.ua/event/%d0%bd%d0%b0%d1%83%d0%ba%d0%be%d0%b2%d0%b0-%d0%b1%d1%96%d0%b1%d0%bb%d1%96%d0%be%d1%82%d0%b5%d0%ba%d0%b0-%d0%b7%d0%b0%d0%bf%d1%80%d0%be%d1%88%d1%83%d1%94-%d0%bd%d0%b0%d1%83%d0%ba%d0%be%d0%b2%d1%86/
X-WR-CALDESC:Наукова бібліотека запрошує науковців скористатися звичними послугами он-лайн
BEGIN:VEVENT
DTSTART:
DTEND:
SUMMARY:Наукова бібліотека запрошує науковців скористатися звичними послугами он-лайн
DESCRIPTION:
LOCATION:
END:VEVENT
END:VCALENDAR
