BEGIN:VCALENDAR
VERSION:2.0
PRODID:-//STU
CALSCALE:GREGORIAN
METHOD:PUBLISH
X-WR-CALNAME:STU
X-ORIGINAL-URL:https://www.nusta.edu.ua/event/%d0%b4%d1%8f%d0%ba%d1%83%d1%94%d0%bc%d0%be-%d0%b4%d0%b0%d1%80%d1%83%d0%b2%d0%b0%d0%bb%d1%8c%d0%bd%d0%b8%d0%ba%d0%b0%d0%bc-%d0%b7%d0%b0-%d0%bf%d0%be%d0%b4%d0%b0%d1%80%d0%be%d0%b2%d0%b0%d0%bd%d1%96/
X-WR-CALDESC:Дякуємо дарувальникам за подаровані книги до Наукової бібліотеки УДФСУ!
BEGIN:VEVENT
DTSTART:
DTEND:
SUMMARY:Дякуємо дарувальникам за подаровані книги до Наукової бібліотеки УДФСУ!
DESCRIPTION:
LOCATION:
END:VEVENT
END:VCALENDAR
