BEGIN:VCALENDAR
VERSION:2.0
PRODID:-//STU
CALSCALE:GREGORIAN
METHOD:PUBLISH
X-WR-CALNAME:STU
X-ORIGINAL-URL:https://www.nusta.edu.ua/event/26-%d1%81%d1%96%d1%87%d0%bd%d1%8f-%d0%b2%d1%96%d0%b4%d0%b1%d1%83%d0%b4%d0%b5%d1%82%d1%8c%d1%81%d1%8f-%d0%be%d0%bd%d0%bb%d0%b0%d0%b9%d0%bd-%d0%b7%d1%83%d1%81%d1%82%d1%80%d1%96%d1%87-%d0%b7-%d0%bb%d1%96/
X-WR-CALDESC:Відбудеться онлайн зустріч з представницею Закарпатської митниці Лілією Дорофєєвою
BEGIN:VEVENT
DTSTART:
DTEND:
SUMMARY:Відбудеться онлайн зустріч з представницею Закарпатської митниці Лілією Дорофєєвою
DESCRIPTION:
LOCATION:
END:VEVENT
END:VCALENDAR
