BEGIN:VCALENDAR
VERSION:2.0
PRODID:-//STU
CALSCALE:GREGORIAN
METHOD:PUBLISH
X-WR-CALNAME:STU
X-ORIGINAL-URL:https://www.nusta.edu.ua/event/%d0%b4%d0%b5%d0%bd%d1%8c-%d0%bf%d0%b0%d0%bc%d1%8f%d1%82%d1%96-%d0%b3%d0%b5%d1%80%d0%be%d1%97%d0%b2-%d0%bd%d0%b5%d0%b1%d0%b5%d1%81%d0%bd%d0%be%d1%97-%d1%81%d0%be%d1%82%d0%bd%d1%96-%d0%bf/
X-WR-CALDESC:День пам’яті Героїв Небесної Сотні: Пам’ятаймо. Шануймо
BEGIN:VEVENT
DTSTART:
DTEND:
SUMMARY:День пам’яті Героїв Небесної Сотні: Пам’ятаймо. Шануймо
DESCRIPTION:
LOCATION:
END:VEVENT
END:VCALENDAR
