BEGIN:VCALENDAR
VERSION:2.0
PRODID:-//STU
CALSCALE:GREGORIAN
METHOD:PUBLISH
X-WR-CALNAME:STU
X-ORIGINAL-URL:https://www.nusta.edu.ua/event/%d0%b2%d1%96%d0%b4%d0%b1%d1%83%d0%b4%d0%b5%d1%82%d1%8c%d1%81%d1%8f-%d0%b2%d1%81%d0%b5%d1%83%d0%ba%d1%80%d0%b0%d1%97%d0%bd%d1%81%d1%8c%d0%ba%d0%b0-%d0%ba%d0%be%d0%bd%d1%84%d0%b5%d1%80%d0%b5%d0%bd%d1%86/
X-WR-CALDESC:Відбудеться Всеукраїнська конференція іноземними мовами «Практичні та теоретичні аспекти аналізу економіки, обліку, фінансів і права»
BEGIN:VEVENT
DTSTART:
DTEND:
SUMMARY:Відбудеться Всеукраїнська конференція іноземними мовами «Практичні та теоретичні аспекти аналізу економіки, обліку, фінансів і права»
DESCRIPTION:
LOCATION:
END:VEVENT
END:VCALENDAR
