BEGIN:VCALENDAR
VERSION:2.0
PRODID:-//STU
CALSCALE:GREGORIAN
METHOD:PUBLISH
X-WR-CALNAME:STU
X-ORIGINAL-URL:https://www.nusta.edu.ua/event/%d1%83%d0%b2%d0%b0%d0%b3%d0%b0-6-%d1%96-8-%d0%ba%d0%b2%d1%96%d1%82%d0%bd%d1%8f-%d0%b2%d1%96%d0%b4%d0%b1%d1%83%d0%b4%d1%83%d1%82%d1%8c%d1%81%d1%8f-%d1%82%d1%80%d0%b5%d0%bd%d1%96%d0%bd%d0%b3%d0%b8/
X-WR-CALDESC:УВАГА! 6 і 8 квітня відбудуться тренінги щодо запуску кейс-клубів
BEGIN:VEVENT
DTSTART:
DTEND:
SUMMARY:УВАГА! 6 і 8 квітня відбудуться тренінги щодо запуску кейс-клубів
DESCRIPTION:
LOCATION:
END:VEVENT
END:VCALENDAR
