BEGIN:VCALENDAR
VERSION:2.0
PRODID:-//STU
CALSCALE:GREGORIAN
METHOD:PUBLISH
X-WR-CALNAME:STU
X-ORIGINAL-URL:https://www.nusta.edu.ua/event/%d0%b4%d0%be%d0%bb%d1%83%d1%87%d0%b0%d0%b9%d1%82%d0%b5%d1%81%d1%8f-%d0%b4%d0%be-%d0%bf%d1%80%d0%be%d0%b3%d1%80%d0%b0%d0%bc%d0%b8-%d0%b5%d1%80%d0%b0%d0%b7%d0%bc%d1%83%d1%81-%d0%b4%d0%bd%d1%96-%d0%b4/
X-WR-CALDESC:Долучайтеся до Програми ЕРАЗМУС + ДНІ ДЛЯ МОЛОДІ УКРАЇНИ: ZOOM EDITION
BEGIN:VEVENT
DTSTART:
DTEND:
SUMMARY:Долучайтеся до Програми ЕРАЗМУС + ДНІ ДЛЯ МОЛОДІ УКРАЇНИ: ZOOM EDITION
DESCRIPTION:
LOCATION:
END:VEVENT
END:VCALENDAR
