BEGIN:VCALENDAR
VERSION:2.0
PRODID:-//STU
CALSCALE:GREGORIAN
METHOD:PUBLISH
X-WR-CALNAME:STU
X-ORIGINAL-URL:https://www.nusta.edu.ua/event/%d0%b7-1-%d0%b2%d0%b5%d1%80%d0%b5%d1%81%d0%bd%d1%8f-%d0%b7%d0%bc%d1%96%d0%bd%d1%8e%d1%94%d1%82%d1%8c%d1%81%d1%8f-%d1%80%d0%be%d0%b7%d0%bc%d1%96%d1%80-%d0%bf%d0%bb%d0%b0%d1%82%d0%b8-%d0%b7%d0%b0-%d0%bd/
X-WR-CALDESC:З 1 вересня змінюється розмір плати за навчання
BEGIN:VEVENT
DTSTART:
DTEND:
SUMMARY:З 1 вересня змінюється розмір плати за навчання
DESCRIPTION:
LOCATION:
END:VEVENT
END:VCALENDAR
