BEGIN:VCALENDAR
VERSION:2.0
PRODID:-//STU
CALSCALE:GREGORIAN
METHOD:PUBLISH
X-WR-CALNAME:STU
X-ORIGINAL-URL:https://www.nusta.edu.ua/event/%d1%8e%d1%80%d0%ba%d0%bb%d1%96%d0%bd%d1%96%d0%ba%d0%b0-%d1%83%d0%b4%d1%84%d1%81%d1%83-%d1%82%d0%be-%d0%b3%d0%be-%d1%84%d1%80%d1%80-%d0%bc%d1%96%d1%81%d1%82%d0%be-%d0%b4%d0%bb%d1%8f-%d0%b6/
X-WR-CALDESC:Юрклініка УДФСУ то ГО «ФРР «Місто для життя» проведуть робочу зустріч щодо створення бізнес-інкубатора
BEGIN:VEVENT
DTSTART:
DTEND:
SUMMARY:Юрклініка УДФСУ то ГО «ФРР «Місто для життя» проведуть робочу зустріч щодо створення бізнес-інкубатора
DESCRIPTION:
LOCATION:
END:VEVENT
END:VCALENDAR
