BEGIN:VCALENDAR
VERSION:2.0
PRODID:-//STU
CALSCALE:GREGORIAN
METHOD:PUBLISH
X-WR-CALNAME:STU
X-ORIGINAL-URL:https://www.nusta.edu.ua/event/%d0%b2%d1%96%d0%b4%d0%b1%d1%83%d0%b4%d1%83%d1%82%d1%8c%d1%81%d1%8f-%d0%b2%d0%b5%d0%b1%d1%96%d0%bd%d0%b0%d1%80%d0%b8-%d0%b4%d0%bb%d1%8f-%d0%bd%d0%b0%d1%83%d0%ba%d0%be%d0%b2%d1%86%d1%96%d0%b2-%d1%89/
X-WR-CALDESC:Відбудуться вебінари для науковців щодо використання баз даних ScienceDirect та Scopus
BEGIN:VEVENT
DTSTART:
DTEND:
SUMMARY:Відбудуться вебінари для науковців щодо використання баз даних ScienceDirect та Scopus
DESCRIPTION:
LOCATION:
END:VEVENT
END:VCALENDAR
