BEGIN:VCALENDAR
VERSION:2.0
PRODID:-//STU
CALSCALE:GREGORIAN
METHOD:PUBLISH
X-WR-CALNAME:STU
X-ORIGINAL-URL:https://www.nusta.edu.ua/event/%d0%be%d0%b3%d0%be%d0%bb%d0%be%d1%88%d0%b5%d0%bd%d0%bd%d1%8f-%d1%89%d0%be%d0%b4%d0%be-%d0%b7%d0%b0%d1%81%d1%96%d0%b4%d0%b0%d0%bd%d1%8c-%d0%bf%d0%be%d1%81%d1%82%d1%96%d0%b9%d0%bd%d0%b8%d1%85-%d0%ba-13/
X-WR-CALDESC:Оголошення щодо засідань постійних комісій ВР
BEGIN:VEVENT
DTSTART:
DTEND:
SUMMARY:Оголошення щодо засідань постійних комісій ВР
DESCRIPTION:
LOCATION:
END:VEVENT
END:VCALENDAR
