BEGIN:VCALENDAR
VERSION:2.0
PRODID:-//STU
CALSCALE:GREGORIAN
METHOD:PUBLISH
X-WR-CALNAME:STU
X-ORIGINAL-URL:https://www.nusta.edu.ua/event/%d0%bf%d1%80%d0%b8%d0%b2%d1%96%d1%82%d0%b0%d0%bd%d0%bd%d1%8f-%d0%b2-%d0%be-%d1%80%d0%b5%d0%ba%d1%82%d0%be%d1%80%d0%b0-%d0%b2%d0%b0%d0%bb%d0%b5%d0%bd%d1%82%d0%b8%d0%bd%d0%b8-%d1%83%d0%bd%d0%b8%d0%bd-2/
X-WR-CALDESC:Привітання в.о. ректора Валентини Унинець-Ходаківської з Всесвітнім днем вишиванки
BEGIN:VEVENT
DTSTART:
DTEND:
SUMMARY:Привітання в.о. ректора Валентини Унинець-Ходаківської з Всесвітнім днем вишиванки
DESCRIPTION:
LOCATION:
END:VEVENT
END:VCALENDAR
