BEGIN:VCALENDAR
VERSION:2.0
PRODID:-//STU
CALSCALE:GREGORIAN
METHOD:PUBLISH
X-WR-CALNAME:STU
X-ORIGINAL-URL:https://www.nusta.edu.ua/event/%d0%b2%d1%96%d0%b4%d1%96%d0%b9%d1%88%d0%bb%d0%b0-%d1%83-%d0%b2%d1%96%d1%87%d0%bd%d1%96%d1%81%d1%82%d1%8c-%d0%bb%d1%8e%d0%b4%d0%b8%d0%bd%d0%b0-%d0%bb%d0%b5%d0%b3%d0%b5%d0%bd%d0%b4%d0%b0-%d0%b2%d0%b0/
X-WR-CALDESC:Відійшла у вічність людина-легенда Валентина Кулініч
BEGIN:VEVENT
DTSTART:
DTEND:
SUMMARY:Відійшла у вічність людина-легенда Валентина Кулініч
DESCRIPTION:
LOCATION:
END:VEVENT
END:VCALENDAR
