BEGIN:VCALENDAR
VERSION:2.0
PRODID:-//STU
CALSCALE:GREGORIAN
METHOD:PUBLISH
X-WR-CALNAME:STU
X-ORIGINAL-URL:https://www.nusta.edu.ua/event/%d1%83%d0%b2%d0%b0%d0%b3%d0%b0-%d0%b2%d0%b0%d0%b6%d0%bb%d0%b8%d0%b2%d0%b0-%d1%96%d0%bd%d1%84%d0%be%d1%80%d0%bc%d0%b0%d1%86%d1%96%d1%8f-2/
X-WR-CALDESC:Увага! Важлива інформація!
BEGIN:VEVENT
DTSTART:
DTEND:
SUMMARY:Увага! Важлива інформація!
DESCRIPTION:
LOCATION:
END:VEVENT
END:VCALENDAR
