BEGIN:VCALENDAR
VERSION:2.0
PRODID:-//STU
CALSCALE:GREGORIAN
METHOD:PUBLISH
X-WR-CALNAME:STU
X-ORIGINAL-URL:https://www.nusta.edu.ua/event/27-%d1%82%d1%80%d0%b0%d0%b2%d0%bd%d1%8f-%d0%b2%d1%96%d0%b4%d0%b1%d1%83%d0%b4%d0%b5%d1%82%d1%8c%d1%81%d1%8f-%d0%be%d0%bd%d0%bb%d0%b0%d0%b9%d0%bd-%d0%bf%d1%80%d0%b5%d0%b7%d0%b5%d0%bd%d1%82%d0%b0%d1%86/
X-WR-CALDESC:27 травня відбудеться онлайн-презентація освітньої програми &#8220;Фінансові технології&#8221;
BEGIN:VEVENT
DTSTART:
DTEND:
SUMMARY:27 травня відбудеться онлайн-презентація освітньої програми &#8220;Фінансові технології&#8221;
DESCRIPTION:
LOCATION:
END:VEVENT
END:VCALENDAR
