BEGIN:VCALENDAR
VERSION:2.0
PRODID:-//STU
CALSCALE:GREGORIAN
METHOD:PUBLISH
X-WR-CALNAME:STU
X-ORIGINAL-URL:https://www.nusta.edu.ua/event/%d0%b2%d0%b6%d0%b5-%d1%81%d1%8c%d0%be%d0%b3%d0%be%d0%b4%d0%bd%d1%96-%d0%b4%d0%b5%d0%bd%d1%8c-%d0%b2%d1%96%d0%b4%d0%ba%d1%80%d0%b8%d1%82%d0%b8%d1%85-%d0%b4%d0%b2%d0%b5%d1%80%d0%b5%d0%b9-%d0%be%d1%81/
X-WR-CALDESC:Уже сьогодні! День відкритих дверей освітньої магістерської програми Fintech!
BEGIN:VEVENT
DTSTART:
DTEND:
SUMMARY:Уже сьогодні! День відкритих дверей освітньої магістерської програми Fintech!
DESCRIPTION:
LOCATION:
END:VEVENT
END:VCALENDAR
