BEGIN:VCALENDAR
VERSION:2.0
PRODID:-//STU
CALSCALE:GREGORIAN
METHOD:PUBLISH
X-WR-CALNAME:STU
X-ORIGINAL-URL:https://www.nusta.edu.ua/event/vidkryto-nabir-do-yurydychnoyi-kliniky-universytetu/
X-WR-CALDESC:Відкрито набір до Юридичної клініки університету
BEGIN:VEVENT
DTSTART:
DTEND:
SUMMARY:Відкрито набір до Юридичної клініки університету
DESCRIPTION:
LOCATION:
END:VEVENT
END:VCALENDAR
