BEGIN:VCALENDAR
VERSION:2.0
PRODID:-//STU
CALSCALE:GREGORIAN
METHOD:PUBLISH
X-WR-CALNAME:STU
X-ORIGINAL-URL:https://www.nusta.edu.ua/event/avtoshkola-podatkovogo-universytetu-zaproshuye-na-navchannya/
X-WR-CALDESC:Автошкола Податкового університету запрошує на навчання
BEGIN:VEVENT
DTSTART:
DTEND:
SUMMARY:Автошкола Податкового університету запрошує на навчання
DESCRIPTION:
LOCATION:
END:VEVENT
END:VCALENDAR
