BEGIN:VCALENDAR
VERSION:2.0
PRODID:-//STU
CALSCALE:GREGORIAN
METHOD:PUBLISH
X-WR-CALNAME:STU
X-ORIGINAL-URL:https://www.nusta.edu.ua/event/podatkovyj-universytet-zaproshuye-do-magistratury-pryjom-dokumentiv-do-30-veresnya/
X-WR-CALDESC:Податковий університет запрошує до магістратури. Прийом документів до 30 вересня!
BEGIN:VEVENT
DTSTART:
DTEND:
SUMMARY:Податковий університет запрошує до магістратури. Прийом документів до 30 вересня!
DESCRIPTION:
LOCATION:
END:VEVENT
END:VCALENDAR
