BEGIN:VCALENDAR
VERSION:2.0
PRODID:-//STU
CALSCALE:GREGORIAN
METHOD:PUBLISH
X-WR-CALNAME:STU
X-ORIGINAL-URL:https://www.nusta.edu.ua/event/11-zhovtnya-2021-roku-vidbudetsya-onlajn-seminar-molodyh-vchenyh/
X-WR-CALDESC:11 жовтня 2021 року відбудеться онлайн-семінар молодих вчених
BEGIN:VEVENT
DTSTART:
DTEND:
SUMMARY:11 жовтня 2021 року відбудеться онлайн-семінар молодих вчених
DESCRIPTION:
LOCATION:
END:VEVENT
END:VCALENDAR
