BEGIN:VCALENDAR
VERSION:2.0
PRODID:-//STU
CALSCALE:GREGORIAN
METHOD:PUBLISH
X-WR-CALNAME:STU
X-ORIGINAL-URL:https://www.nusta.edu.ua/event/vitannya-rektora-z-dnem-yurysta-ukrayiny/
X-WR-CALDESC:Вітання ректора з Днем юриста України
BEGIN:VEVENT
DTSTART:
DTEND:
SUMMARY:Вітання ректора з Днем юриста України
DESCRIPTION:
LOCATION:
END:VEVENT
END:VCALENDAR
