BEGIN:VCALENDAR
VERSION:2.0
PRODID:-//STU
CALSCALE:GREGORIAN
METHOD:PUBLISH
X-WR-CALNAME:STU
X-ORIGINAL-URL:https://www.nusta.edu.ua/event/yevroviktoryna-2021/
X-WR-CALDESC:ЄВРОВІКТОРИНА-2021
BEGIN:VEVENT
DTSTART:
DTEND:
SUMMARY:ЄВРОВІКТОРИНА-2021
DESCRIPTION:
LOCATION:
END:VEVENT
END:VCALENDAR
