BEGIN:VCALENDAR
VERSION:2.0
PRODID:-//STU
CALSCALE:GREGORIAN
METHOD:PUBLISH
X-WR-CALNAME:STU
X-ORIGINAL-URL:https://www.nusta.edu.ua/event/zaproshuyemo-do-uchasti-fulbrajtivskomu-konkursi-dlya-molodyh-doslidnykiv-ta-vykladachiv-fulbright-research-and-development-frdp/
X-WR-CALDESC:Фулбрайтівський конкурс для молодих дослідників та викладачів Fulbright Research and Development (FRDP
BEGIN:VEVENT
DTSTART:
DTEND:
SUMMARY:Фулбрайтівський конкурс для молодих дослідників та викладачів Fulbright Research and Development (FRDP
DESCRIPTION:
LOCATION:
END:VEVENT
END:VCALENDAR
