BEGIN:VCALENDAR
VERSION:2.0
PRODID:-//STU
CALSCALE:GREGORIAN
METHOD:PUBLISH
X-WR-CALNAME:STU
X-ORIGINAL-URL:https://www.nusta.edu.ua/event/vidbudetsya-konkurs-naukovyh-robit-studentiv-i-molodyh-uchenyh-imeni-volodymyra-korotuna/
X-WR-CALDESC:Відбудеться Конкурс наукових робіт молодих учених і студентів імені Володимира Коротуна
BEGIN:VEVENT
DTSTART:
DTEND:
SUMMARY:Відбудеться Конкурс наукових робіт молодих учених і студентів імені Володимира Коротуна
DESCRIPTION:
LOCATION:
END:VEVENT
END:VCALENDAR
