BEGIN:VCALENDAR
VERSION:2.0
PRODID:-//STU
CALSCALE:GREGORIAN
METHOD:PUBLISH
X-WR-CALNAME:STU
X-ORIGINAL-URL:https://www.nusta.edu.ua/event/dbayuchy-pro-vashe-zdorovya-v-podatkovomu-universyteti-prodovzhuyetsya-kampaniya-z-vakczynacziyi%cc%88/
X-WR-CALDESC:Дбаючи про ваше здоров&#8217;я в Податковому університеті продовжується кампанія з вакцинації
BEGIN:VEVENT
DTSTART:
DTEND:
SUMMARY:Дбаючи про ваше здоров&#8217;я в Податковому університеті продовжується кампанія з вакцинації
DESCRIPTION:
LOCATION:
END:VEVENT
END:VCALENDAR
