BEGIN:VCALENDAR
VERSION:2.0
PRODID:-//STU
CALSCALE:GREGORIAN
METHOD:PUBLISH
X-WR-CALNAME:STU
X-ORIGINAL-URL:https://www.nusta.edu.ua/event/uvaga-konkursi-na-logotyp-derzhavnogo-instytutu-simejnoyi-ta-molodizhnoyi-polityky/
X-WR-CALDESC:Увага! Конкурс на логотип Державного інституту сімейної та молодіжної політики
BEGIN:VEVENT
DTSTART:
DTEND:
SUMMARY:Увага! Конкурс на логотип Державного інституту сімейної та молодіжної політики
DESCRIPTION:
LOCATION:
END:VEVENT
END:VCALENDAR
