BEGIN:VCALENDAR
VERSION:2.0
PRODID:-//STU
CALSCALE:GREGORIAN
METHOD:PUBLISH
X-WR-CALNAME:STU
X-ORIGINAL-URL:https://www.nusta.edu.ua/event/u-podatkovomu-universyteti-vidbudetsya-ii-mizhnarodnyj-podatkovyj-kongres/
X-WR-CALDESC:У Податковому університеті відбудеться II Міжнародний податковий конгрес
BEGIN:VEVENT
DTSTART:
DTEND:
SUMMARY:У Податковому університеті відбудеться II Міжнародний податковий конгрес
DESCRIPTION:
LOCATION:
END:VEVENT
END:VCALENDAR
