BEGIN:VCALENDAR
VERSION:2.0
PRODID:-//STU
CALSCALE:GREGORIAN
METHOD:PUBLISH
X-WR-CALNAME:STU
X-ORIGINAL-URL:https://www.nusta.edu.ua/event/28-zhovtnya-den-vyzvolennya-ukrayiny-vid-fashystskyh-zagarbnykiv/
X-WR-CALDESC:28 жовтня: День визволення України від фашистських загарбників
BEGIN:VEVENT
DTSTART:
DTEND:
SUMMARY:28 жовтня: День визволення України від фашистських загарбників
DESCRIPTION:
LOCATION:
END:VEVENT
END:VCALENDAR
