BEGIN:VCALENDAR
VERSION:2.0
PRODID:-//STU
CALSCALE:GREGORIAN
METHOD:PUBLISH
X-WR-CALNAME:STU
X-ORIGINAL-URL:https://www.nusta.edu.ua/event/podatkovyj-universytet-v-chervonij-zoni-karantynu/
X-WR-CALDESC:Податковий університет в «червоній» зоні карантину
BEGIN:VEVENT
DTSTART:
DTEND:
SUMMARY:Податковий університет в «червоній» зоні карантину
DESCRIPTION:
LOCATION:
END:VEVENT
END:VCALENDAR
