BEGIN:VCALENDAR
VERSION:2.0
PRODID:-//STU
CALSCALE:GREGORIAN
METHOD:PUBLISH
X-WR-CALNAME:STU
X-ORIGINAL-URL:https://www.nusta.edu.ua/event/26-lystopada-2021-roku-vidbudetsya-ii-mizhnarodnyj-podatkovyj-kongres/
X-WR-CALDESC:26 листопада 2021 року в Податковому університеті відбудеться II Міжнародний податковий конгрес
BEGIN:VEVENT
DTSTART:
DTEND:
SUMMARY:26 листопада 2021 року в Податковому університеті відбудеться II Міжнародний податковий конгрес
DESCRIPTION:
LOCATION:
END:VEVENT
END:VCALENDAR
