BEGIN:VCALENDAR
VERSION:2.0
PRODID:-//STU
CALSCALE:GREGORIAN
METHOD:PUBLISH
X-WR-CALNAME:STU
X-ORIGINAL-URL:https://www.nusta.edu.ua/event/do-uvagy-studentiv-podatkovogo-universytetu-ogolosheno-konkurs-student-roku-2021/
X-WR-CALDESC:До уваги студентів! В Податковому університеті стартує конкурс «Студент року-2021»
BEGIN:VEVENT
DTSTART:
DTEND:
SUMMARY:До уваги студентів! В Податковому університеті стартує конкурс «Студент року-2021»
DESCRIPTION:
LOCATION:
END:VEVENT
END:VCALENDAR
