BEGIN:VCALENDAR
VERSION:2.0
PRODID:-//STU
CALSCALE:GREGORIAN
METHOD:PUBLISH
X-WR-CALNAME:STU
X-ORIGINAL-URL:https://www.nusta.edu.ua/event/uvaga-startuye-v-vseukrayinskyj-mysteczkyj-konkurs-podatkova-abetka-sogodennya-ta-majbutnye-podatkovoyi-ta-mytnoyi-spravy/
X-WR-CALDESC:УВАГА! Стартує V Всеукраїнський мистецький конкурс “Податкова абетка”, “Сьогодення та майбутнє податкової та митної справи
BEGIN:VEVENT
DTSTART:
DTEND:
SUMMARY:УВАГА! Стартує V Всеукраїнський мистецький конкурс “Податкова абетка”, “Сьогодення та майбутнє податкової та митної справи
DESCRIPTION:
LOCATION:
END:VEVENT
END:VCALENDAR
