BEGIN:VCALENDAR
VERSION:2.0
PRODID:-//STU
CALSCALE:GREGORIAN
METHOD:PUBLISH
X-WR-CALNAME:STU
X-ORIGINAL-URL:https://www.nusta.edu.ua/event/nan-ukrayiny-ogoloshuye-konkurs-na-zdobuttya-premij-dlya-molodyh-uchenyh-i-studentiv/
X-WR-CALDESC:НАН України оголошує конкурс на здобуття премій для молодих учених і студентів
BEGIN:VEVENT
DTSTART:
DTEND:
SUMMARY:НАН України оголошує конкурс на здобуття премій для молодих учених і студентів
DESCRIPTION:
LOCATION:
END:VEVENT
END:VCALENDAR
