BEGIN:VCALENDAR
VERSION:2.0
PRODID:-//STU
CALSCALE:GREGORIAN
METHOD:PUBLISH
X-WR-CALNAME:STU
X-ORIGINAL-URL:https://www.nusta.edu.ua/event/21-vseukrayinskyj-radiodyktant-naczionalnoyi-yednosti/
X-WR-CALDESC:21 Всеукраїнський радіодиктант національної єдності
BEGIN:VEVENT
DTSTART:
DTEND:
SUMMARY:21 Всеукраїнський радіодиктант національної єдності
DESCRIPTION:
LOCATION:
END:VEVENT
END:VCALENDAR
