BEGIN:VCALENDAR
VERSION:2.0
PRODID:-//STU
CALSCALE:GREGORIAN
METHOD:PUBLISH
X-WR-CALNAME:STU
X-ORIGINAL-URL:https://www.nusta.edu.ua/event/vidbudetsya-zustrich-studentiv-podatkovogo-universytetu-z-administracziyeyu-vyshu/
X-WR-CALDESC:Відбудуться зустрічі студентів Податкового університету з адміністрацією вишу
BEGIN:VEVENT
DTSTART:
DTEND:
SUMMARY:Відбудуться зустрічі студентів Податкового університету з адміністрацією вишу
DESCRIPTION:
LOCATION:
END:VEVENT
END:VCALENDAR
