BEGIN:VCALENDAR
VERSION:2.0
PRODID:-//STU
CALSCALE:GREGORIAN
METHOD:PUBLISH
X-WR-CALNAME:STU
X-ORIGINAL-URL:https://www.nusta.edu.ua/event/25-lystopada-podatkovyj-universytet-svyatkuye-100-richnyj-yuvilej/
X-WR-CALDESC:25 листопада Податковий університет святкує 100-річний ювілей
BEGIN:VEVENT
DTSTART:
DTEND:
SUMMARY:25 листопада Податковий університет святкує 100-річний ювілей
DESCRIPTION:
LOCATION:
END:VEVENT
END:VCALENDAR
