BEGIN:VCALENDAR
VERSION:2.0
PRODID:-//STU
CALSCALE:GREGORIAN
METHOD:PUBLISH
X-WR-CALNAME:STU
X-ORIGINAL-URL:https://www.nusta.edu.ua/event/podatkovyj-universytet-zaproshuye-majbutnih-abituriyentiv-vzyaty-uchast-v-olimpiadi-z-anglijskoyi-movy-krok-u-majbutnye/
X-WR-CALDESC:Податковий університет запрошує майбутніх абітурієнтів взяти участь в Олімпіаді з англійської мови «Крок у майбутнє»
BEGIN:VEVENT
DTSTART:
DTEND:
SUMMARY:Податковий університет запрошує майбутніх абітурієнтів взяти участь в Олімпіаді з англійської мови «Крок у майбутнє»
DESCRIPTION:
LOCATION:
END:VEVENT
END:VCALENDAR
