BEGIN:VCALENDAR
VERSION:2.0
PRODID:-//STU
CALSCALE:GREGORIAN
METHOD:PUBLISH
X-WR-CALNAME:STU
X-ORIGINAL-URL:https://www.nusta.edu.ua/event/16-grudnya-v-derzhavnomu-podatkovomu-universyteti-vidbudetsya-biznes-forum-virtualni-aktyvy-shho-dali/
X-WR-CALDESC:16 грудня в Державному податковому університеті відбудеться бізнес-форум &#8220;Віртуальні активи: що далі?&#8221;
BEGIN:VEVENT
DTSTART:
DTEND:
SUMMARY:16 грудня в Державному податковому університеті відбудеться бізнес-форум &#8220;Віртуальні активи: що далі?&#8221;
DESCRIPTION:
LOCATION:
END:VEVENT
END:VCALENDAR
