BEGIN:VCALENDAR
VERSION:2.0
PRODID:-//STU
CALSCALE:GREGORIAN
METHOD:PUBLISH
X-WR-CALNAME:STU
X-ORIGINAL-URL:https://www.nusta.edu.ua/event/uvaga-vazhlyva-informacziya-shhodo-vidklyuchennya-svitla-na-terytoriyi-irpinskoyi-gromady/
X-WR-CALDESC:Увага! Важлива інформація щодо відключення світла на території Ірпінської громади
BEGIN:VEVENT
DTSTART:
DTEND:
SUMMARY:Увага! Важлива інформація щодо відключення світла на території Ірпінської громади
DESCRIPTION:
LOCATION:
END:VEVENT
END:VCALENDAR
