BEGIN:VCALENDAR
VERSION:2.0
PRODID:-//STU
CALSCALE:GREGORIAN
METHOD:PUBLISH
X-WR-CALNAME:STU
X-ORIGINAL-URL:https://www.nusta.edu.ua/event/z-1-po-3-grudnya-u-podatkovomu-universyteti-prohodyt-marafon-karyery/
X-WR-CALDESC:З 1 по 3 грудня у Податковому університеті проходить Марафон кар&#8217;єри
BEGIN:VEVENT
DTSTART:
DTEND:
SUMMARY:З 1 по 3 грудня у Податковому університеті проходить Марафон кар&#8217;єри
DESCRIPTION:
LOCATION:
END:VEVENT
END:VCALENDAR
