BEGIN:VCALENDAR
VERSION:2.0
PRODID:-//STU
CALSCALE:GREGORIAN
METHOD:PUBLISH
X-WR-CALNAME:STU
X-ORIGINAL-URL:https://www.nusta.edu.ua/event/tryvaye-vseukrayinska-kampaniya-16-dniv-proty-nasylstva-ne-movchaty-i-ne-pryhovuvaty-skazhemo-nasylstvu-ni/
X-WR-CALDESC:Триває Всеукраїнська кампанія «16 днів проти насильства». Не мовчати і не приховувати! Скажемо насильству &#8211; НІ!
BEGIN:VEVENT
DTSTART:
DTEND:
SUMMARY:Триває Всеукраїнська кампанія «16 днів проти насильства». Не мовчати і не приховувати! Скажемо насильству &#8211; НІ!
DESCRIPTION:
LOCATION:
END:VEVENT
END:VCALENDAR
