BEGIN:VCALENDAR
VERSION:2.0
PRODID:-//STU
CALSCALE:GREGORIAN
METHOD:PUBLISH
X-WR-CALNAME:STU
X-ORIGINAL-URL:https://www.nusta.edu.ua/event/8-grudnya-konferencziya-pro-majbutnye-fintehu-ta-innovaczijnoyi-transformacziyi-svitu/
X-WR-CALDESC:8 грудня – конференція про майбутнє ФІНТЕХУ та інноваційної трансформації світу
BEGIN:VEVENT
DTSTART:
DTEND:
SUMMARY:8 грудня – конференція про майбутнє ФІНТЕХУ та інноваційної трансформації світу
DESCRIPTION:
LOCATION:
END:VEVENT
END:VCALENDAR
