BEGIN:VCALENDAR
VERSION:2.0
PRODID:-//STU
CALSCALE:GREGORIAN
METHOD:PUBLISH
X-WR-CALNAME:STU
X-ORIGINAL-URL:https://www.nusta.edu.ua/event/den-zbrojnyh-syl-ukrayiny/
X-WR-CALDESC:День Збройних Сил України!
BEGIN:VEVENT
DTSTART:
DTEND:
SUMMARY:День Збройних Сил України!
DESCRIPTION:
LOCATION:
END:VEVENT
END:VCALENDAR
