BEGIN:VCALENDAR
VERSION:2.0
PRODID:-//STU
CALSCALE:GREGORIAN
METHOD:PUBLISH
X-WR-CALNAME:STU
X-ORIGINAL-URL:https://www.nusta.edu.ua/event/vitannya-z-dnem-misczevogo-samovryaduvannya/
X-WR-CALDESC:Податковий вітає з Днем місцевого самоврядування
BEGIN:VEVENT
DTSTART:
DTEND:
SUMMARY:Податковий вітає з Днем місцевого самоврядування
DESCRIPTION:
LOCATION:
END:VEVENT
END:VCALENDAR
