BEGIN:VCALENDAR
VERSION:2.0
PRODID:-//STU
CALSCALE:GREGORIAN
METHOD:PUBLISH
X-WR-CALNAME:STU
X-ORIGINAL-URL:https://www.nusta.edu.ua/event/zaproshuyemo-studentiv-podatkovogo-vzyaty-uchast-v-onlajn-forumi-students-way-2021/
X-WR-CALDESC:Запрошуємо студентів Податкового взяти участь в онлайн-форумі «STUDENT’S WAY 2021»
BEGIN:VEVENT
DTSTART:
DTEND:
SUMMARY:Запрошуємо студентів Податкового взяти участь в онлайн-форумі «STUDENT’S WAY 2021»
DESCRIPTION:
LOCATION:
END:VEVENT
END:VCALENDAR
