BEGIN:VCALENDAR
VERSION:2.0
PRODID:-//STU
CALSCALE:GREGORIAN
METHOD:PUBLISH
X-WR-CALNAME:STU
X-ORIGINAL-URL:https://www.nusta.edu.ua/event/pryvitannya-kolektyvu-irpinskogo-derzhavnogo-koledzhu-ekonomiky-ta-prava-z-24-richnyczeyu-stvorennya/
X-WR-CALDESC:Привітання колективу Ірпінського державного коледжу економіки та права з 24 річницею створення
BEGIN:VEVENT
DTSTART:
DTEND:
SUMMARY:Привітання колективу Ірпінського державного коледжу економіки та права з 24 річницею створення
DESCRIPTION:
LOCATION:
END:VEVENT
END:VCALENDAR
