BEGIN:VCALENDAR
VERSION:2.0
PRODID:-//STU
CALSCALE:GREGORIAN
METHOD:PUBLISH
X-WR-CALNAME:STU
X-ORIGINAL-URL:https://www.nusta.edu.ua/event/vidbudetsya-den-vidkrytyh-dverej-u-ministerstvi-finansiv-ukrayiny/
X-WR-CALDESC:Відбудеться День відкритих дверей у Міністерстві фінансів України
BEGIN:VEVENT
DTSTART:
DTEND:
SUMMARY:Відбудеться День відкритих дверей у Міністерстві фінансів України
DESCRIPTION:
LOCATION:
END:VEVENT
END:VCALENDAR
