BEGIN:VCALENDAR
VERSION:2.0
PRODID:-//STU
CALSCALE:GREGORIAN
METHOD:PUBLISH
X-WR-CALNAME:STU
X-ORIGINAL-URL:https://www.nusta.edu.ua/event/mizhnarodnyj-den-prav-lyudyny/
X-WR-CALDESC:Міжнародний День прав людини
BEGIN:VEVENT
DTSTART:
DTEND:
SUMMARY:Міжнародний День прав людини
DESCRIPTION:
LOCATION:
END:VEVENT
END:VCALENDAR
