BEGIN:VCALENDAR
VERSION:2.0
PRODID:-//STU
CALSCALE:GREGORIAN
METHOD:PUBLISH
X-WR-CALNAME:STU
X-ORIGINAL-URL:https://www.nusta.edu.ua/event/zaproshuyemo-projty-opytuvannya-shhodo-formuvannya-rozkladu-na-ii-semestr/
X-WR-CALDESC:Запрошуємо пройти опитування щодо формування розкладу на ІІ семестр
BEGIN:VEVENT
DTSTART:
DTEND:
SUMMARY:Запрошуємо пройти опитування щодо формування розкладу на ІІ семестр
DESCRIPTION:
LOCATION:
END:VEVENT
END:VCALENDAR
