BEGIN:VCALENDAR
VERSION:2.0
PRODID:-//STU
CALSCALE:GREGORIAN
METHOD:PUBLISH
X-WR-CALNAME:STU
X-ORIGINAL-URL:https://www.nusta.edu.ua/event/vitayemo-nadzvychajnogo-i-povnovazhnogo-posla-ukrayiny-v-respubliczi-uzbekystan-mykolu-doroshenka-z-dnem-narodzhennya/
X-WR-CALDESC:Вітаємо Надзвичайного і Повноважного Посла України в Республіці Узбекистан Миколу Дорошенка з Днем народження!
BEGIN:VEVENT
DTSTART:
DTEND:
SUMMARY:Вітаємо Надзвичайного і Повноважного Посла України в Республіці Узбекистан Миколу Дорошенка з Днем народження!
DESCRIPTION:
LOCATION:
END:VEVENT
END:VCALENDAR
